BEGIN:VCALENDAR
VERSION:2.0
PRODID:-//eventon.com NONSGML v1.0//EN
CALSCALE:GREGORIAN
METHOD:PUBLISH
BEGIN:VEVENT
UID:69e7515f62eaf
DTSTAMP:20260421T102847Z
DTSTART:20190102
DTEND:20190103
LOCATION:
SUMMARY:Professional Development for Teachers
DESCRIPTION:Schools will be closed.\nhttps://kippbaltimore.org/events/profe
 ssional-development-teachers-3/
URL:https://kippbaltimore.org/events/professional-development-teachers-3/
END:VEVENT
END:VCALENDAR