BEGIN:VCALENDAR
VERSION:2.0
PRODID:-//eventon.com NONSGML v1.0//EN
CALSCALE:GREGORIAN
METHOD:PUBLISH
BEGIN:VEVENT
UID:69e73e423a06f
DTSTAMP:20260421T090714Z
DTSTART:20190415
DTEND:20190416
LOCATION:
SUMMARY:Spring Break
DESCRIPTION:Schools closed\nhttps://kippbaltimore.org/events/spring-break-3
 /
URL:https://kippbaltimore.org/events/spring-break-3/
END:VEVENT
END:VCALENDAR