BEGIN:VCALENDAR
VERSION:2.0
PRODID:-//eventon.com NONSGML v1.0//EN
CALSCALE:GREGORIAN
METHOD:PUBLISH
BEGIN:VEVENT
UID:69e73dff2f4f2
DTSTAMP:20260421T090607Z
DTSTART:20200414T083000Z
DTEND:20200414T093000Z
LOCATION:
SUMMARY:Virtual Town Hall with Families
DESCRIPTION:We know that you have a lot of questions\,  and we are working 
 hard to ensure many questions are answered this week. In order to give you 
 an opportunity to hear from the principals and ask questions\,  we are hold
 ing two town hall meetings via Zoom on Tuesday April 14th[..]\nhttps://kipp
 baltimore.org/events/virtual-town-hall-families/
URL:https://kippbaltimore.org/events/virtual-town-hall-families/
END:VEVENT
END:VCALENDAR