BEGIN:VCALENDAR
VERSION:2.0
PRODID:-//eventon.com NONSGML v1.0//EN
CALSCALE:GREGORIAN
METHOD:PUBLISH
BEGIN:VEVENT
UID:69e4d2051fa09
DTSTAMP:20260419T130053Z
DTSTART:20201111
DTEND:20201112
LOCATION:
SUMMARY:End of Quarter 1
DESCRIPTION:End of Quarter 1\nhttps://kippbaltimore.org/events/end-quarter-
 1/
URL:https://kippbaltimore.org/events/end-quarter-1/
END:VEVENT
END:VCALENDAR