BEGIN:VCALENDAR
VERSION:2.0
PRODID:-//eventon.com NONSGML v1.0//EN
CALSCALE:GREGORIAN
METHOD:PUBLISH
BEGIN:VEVENT
UID:69e73e5361ab2
DTSTAMP:20260421T090731Z
DTSTART:20201216T120000Z
DTEND:20201216T130000Z
LOCATION:
SUMMARY:Lunch & Learn: December
DESCRIPTION:December &#8211; for many of us &#8211; is traditionally a time
  to spend with family. This year\,  join our KIPP families to learn more ab
 out why they chose the KIPP experience for their student\,  and hear about 
 the ways that KIPP families and KIPP staff work in partnership to support[.
 .]\nhttps://kippbaltimore.org/events/lunch-learn-december/
URL:https://kippbaltimore.org/events/lunch-learn-december/
END:VEVENT
END:VCALENDAR