BEGIN:VCALENDAR
VERSION:2.0
PRODID:-//eventon.com NONSGML v1.0//EN
CALSCALE:GREGORIAN
METHOD:PUBLISH
BEGIN:VEVENT
UID:69e5ef40146ca
DTSTAMP:20260420T091752Z
DTSTART:20211015
DTEND:20211016
LOCATION:
SUMMARY:Professional Development -No school
DESCRIPTION:Professional Development -No school\nhttps://kippbaltimore.org/
 events/professional-development-no-school-3/
URL:https://kippbaltimore.org/events/professional-development-no-school-3/
END:VEVENT
END:VCALENDAR