BEGIN:VCALENDAR
VERSION:2.0
PRODID:-//eventon.com NONSGML v1.0//EN
CALSCALE:GREGORIAN
METHOD:PUBLISH
BEGIN:VEVENT
UID:69e75555a33cc
DTSTAMP:20260421T104541Z
DTSTART:20230926T170000Z
DTEND:20230926T183000Z
LOCATION:
SUMMARY:KIPP Ujima Back to School Night Grades 6th-8th
DESCRIPTION:Dear KIPP Baltimore Families\,  We are excited to invite you to
  our annual Back to School Night event! This is a wonderful opportunity for
  you to meet our dedicated staff\,  get familiar with the school environmen
 t\,  and learn about the exciting plans we have for the upcoming academic y
 ear. Date:[..]\nhttps://kippbaltimore.org/events/kipp-ujima-back-to-school-
 night-grades-6th-8th/
URL:https://kippbaltimore.org/events/kipp-ujima-back-to-school-night-grades-6th-8th/
END:VEVENT
END:VCALENDAR