BEGIN:VCALENDAR
VERSION:2.0
PRODID:-//eventon.com NONSGML v1.0//EN
CALSCALE:GREGORIAN
METHOD:PUBLISH
BEGIN:VEVENT
UID:69e7559341106
DTSTAMP:20260421T104643Z
DTSTART:20240319T160000Z
DTEND:20240319T170000Z
LOCATION:
SUMMARY:KIPP Baltimore's Board of Directors Meeting
DESCRIPTION:Team and Family &#8212; All are welcome to attend the next virt
 ual meeting of KIPP Baltimore&#8217;s Board of Directors on March 19\,
   2024. Registration is required by using the link below. #teamandfamily #c
 ollectivepower #community   Link:https://us02web.zoom.us/webinar/register/
 WN_2glZZVFtS9KDvz4kuwAgGw\nhttps://kippbaltimore.org/events/kipp-baltimores
 -board-of-directors/
URL:https://kippbaltimore.org/events/kipp-baltimores-board-of-directors/
END:VEVENT
END:VCALENDAR