BEGIN:VCALENDAR
VERSION:2.0
PRODID:-//eventon.com NONSGML v1.0//EN
CALSCALE:GREGORIAN
METHOD:PUBLISH
BEGIN:VEVENT
UID:69e7533f0d07e
DTSTAMP:20260421T103647Z
DTSTART:20260114T074500Z
DTEND:20260114T084500Z
LOCATION:
SUMMARY:Family Budget Meetings - Option #1
DESCRIPTION:Join school leaders to review SY26-27 priorities as they relate
  to the school&#8217;s budget. Meetings will be held in person with a Zoom 
 option.\nhttps://kippbaltimore.org/events/family-budget-meetings-option-1/
URL:https://kippbaltimore.org/events/family-budget-meetings-option-1/
END:VEVENT
END:VCALENDAR