BEGIN:VCALENDAR
VERSION:2.0
PRODID:-//eventon.com NONSGML v1.0//EN
CALSCALE:GREGORIAN
METHOD:PUBLISH
BEGIN:VEVENT
UID:69e74b2de68f4
DTSTAMP:20260421T100221Z
DTSTART:20170612
DTEND:20170613
LOCATION:
SUMMARY:End of 4th Quarter
DESCRIPTION:Report Card Distribution: June 12th\nhttps://kippbaltimore.org
 /events/end-of-4th-quarter/
URL:https://kippbaltimore.org/events/end-of-4th-quarter/
END:VEVENT
END:VCALENDAR