BEGIN:VCALENDAR
VERSION:2.0
PRODID:-//eventon.com NONSGML v1.0//EN
CALSCALE:GREGORIAN
METHOD:PUBLISH
BEGIN:VEVENT
UID:69e73d1a2c9d6
DTSTAMP:20260421T090218Z
DTSTART:20170607T124500Z
DTEND:20170607T140000Z
LOCATION:
SUMMARY:First Grade Ascension Ceremony
DESCRIPTION:First Grade Ascension Ceremony\nhttps://kippbaltimore.org/event
 s/first-grade-ascension-ceremony/
URL:https://kippbaltimore.org/events/first-grade-ascension-ceremony/
END:VEVENT
END:VCALENDAR