BEGIN:VCALENDAR
VERSION:2.0
PRODID:-//eventon.com NONSGML v1.0//EN
CALSCALE:GREGORIAN
METHOD:PUBLISH
BEGIN:VEVENT
UID:69e7541b51a08
DTSTAMP:20260421T104027Z
DTSTART:20180522
DTEND:20180523
LOCATION:
SUMMARY:MAP Testing
DESCRIPTION:May 22nd-June 2nd (ALL GRADES)\nhttps://kippbaltimore.org/event
 s/map-testing-5/
URL:https://kippbaltimore.org/events/map-testing-5/
END:VEVENT
END:VCALENDAR