BEGIN:VCALENDAR
VERSION:2.0
PRODID:-//eventon.com NONSGML v1.0//EN
CALSCALE:GREGORIAN
METHOD:PUBLISH
BEGIN:VEVENT
UID:69e734b2562e4
DTSTAMP:20260421T082626Z
DTSTART:20180326
DTEND:20180327
LOCATION:
SUMMARY:Spring Break
DESCRIPTION:Schools will be CLOSED\nhttps://kippbaltimore.org/events/spring
 -break-2/
URL:https://kippbaltimore.org/events/spring-break-2/
END:VEVENT
END:VCALENDAR